BEGIN:VCALENDAR
VERSION:2.0
PRODID:-//Dufferin Child &amp; Family Services - ECPv6.15.20//NONSGML v1.0//EN
CALSCALE:GREGORIAN
METHOD:PUBLISH
X-ORIGINAL-URL:https://dcafs.on.ca
X-WR-CALDESC:Events for Dufferin Child &amp; Family Services
REFRESH-INTERVAL;VALUE=DURATION:PT1H
X-Robots-Tag:noindex
X-PUBLISHED-TTL:PT1H
BEGIN:VTIMEZONE
TZID:America/Toronto
BEGIN:DAYLIGHT
TZOFFSETFROM:-0500
TZOFFSETTO:-0400
TZNAME:EDT
DTSTART:20250309T070000
END:DAYLIGHT
BEGIN:STANDARD
TZOFFSETFROM:-0400
TZOFFSETTO:-0500
TZNAME:EST
DTSTART:20251102T060000
END:STANDARD
BEGIN:DAYLIGHT
TZOFFSETFROM:-0500
TZOFFSETTO:-0400
TZNAME:EDT
DTSTART:20260308T070000
END:DAYLIGHT
BEGIN:STANDARD
TZOFFSETFROM:-0400
TZOFFSETTO:-0500
TZNAME:EST
DTSTART:20261101T060000
END:STANDARD
BEGIN:DAYLIGHT
TZOFFSETFROM:-0500
TZOFFSETTO:-0400
TZNAME:EDT
DTSTART:20270314T070000
END:DAYLIGHT
BEGIN:STANDARD
TZOFFSETFROM:-0400
TZOFFSETTO:-0500
TZNAME:EST
DTSTART:20271107T060000
END:STANDARD
END:VTIMEZONE
BEGIN:VEVENT
DTSTART;VALUE=DATE:20260611
DTEND;VALUE=DATE:20260612
DTSTAMP:20260420T125359
CREATED:20250610T040146Z
LAST-MODIFIED:20260331T152350Z
UID:10000716-1781136000-1781222399@dcafs.on.ca
SUMMARY:Fore DCAFS - Our 2026 Golf Classic
DESCRIPTION:GOLF CLASSIC INFORMATION!\nDATE: Thursday\, June 11\, 2026 | Start at 9:00am | Registration at 8:00am\nLOCATION: Shelburne Golf and Country Club | 516423 County Rd. 124 RR 3\, Melancthon\, ON\nDETAILS: Shot Gun Start | Rain or Shine | Lunch On the Pass | Best Ball | Golf Carts included \nHOLE IN ONE PRIZES!\n$10\,000 shopping spree at Home Hardware – Shelburne (Hole 9)\nVehicle from Brackett Auto (Hole 18)\n\nAt Dufferin Child and Family Services (DCAFS)\, we are dedicated to empowering the children\, youth\, and adults of Dufferin County through vital mental health\, well-being\, and developmental supports. However\, the journey towards healing and growth often requires more than the foundational funding we receive. \nThat’s where you come in! \nWe are reaching out to our community\, asking for your invaluable support to fill the gaps that exist in our services. \nThe Dufferin Child and Family Foundation (DCAFF) plays a crucial role in raising funds specifically aimed at enhancing the quality of life for our community. Your contributions through DCAFF will directly impact the lives of vulnerable children\, youth\, adults\, caregivers\, and families\, allowing us to provide essential resources and programs that go beyond our core offerings. \nWith your help\, we can ensure that everyone has access to the support they need to thrive. We invite you to join us in our mission\, as together we can create a brighter future for the families in our Dufferin community. \nThank you for your continued support!\n\n To learn more about our Golf Packages\, and to register\, please click here…\n\n To learn more about our Golf Sponsorship Options\, please click here…\n\n\nHIGHLIGHTS FROM 2025!\n \n \n\n\n\nLIVE FROM THE 2025 GOLF CLASSIC…\n\n\n\n			\n				\n			\n			\n				\n			\n			\n				\n			\n			\n				\n			\n			\n				\n			\n			\n				\n			\n				\n				Gincor Werx (CNW Group/Gincor Werx)\n				\n			\n				\n			\n			\n				\n			\n			\n				\n			\n			\n				\n			\n			\n				\n			\n			\n				\n			\n			\n				\n			\n			\n				\n			\n			\n				\n			\n		\n\nThank you to all our 2025 sponsors!\n\n\nShare on FacebookPost on XFollow us
URL:https://dcafs.on.ca/event/golf/
LOCATION:Shelburne Golf and Country Club\, 516423 County Rd. 124 RR 3\, Melancthon\, Ontario\, L9V 1V2\, Canada
ATTACH;FMTTYPE=image/png:https://dcafs.on.ca/wp-content/uploads/2024/06/003a_FORE-DCAFS.png
END:VEVENT
END:VCALENDAR