BEGIN:VCALENDAR
VERSION:2.0
PRODID:-//Dufferin Child &amp; Family Services - ECPv6.15.20//NONSGML v1.0//EN
CALSCALE:GREGORIAN
METHOD:PUBLISH
X-ORIGINAL-URL:https://dcafs.on.ca
X-WR-CALDESC:Events for Dufferin Child &amp; Family Services
REFRESH-INTERVAL;VALUE=DURATION:PT1H
X-Robots-Tag:noindex
X-PUBLISHED-TTL:PT1H
BEGIN:VTIMEZONE
TZID:America/Toronto
BEGIN:DAYLIGHT
TZOFFSETFROM:-0500
TZOFFSETTO:-0400
TZNAME:EDT
DTSTART:20240310T070000
END:DAYLIGHT
BEGIN:STANDARD
TZOFFSETFROM:-0400
TZOFFSETTO:-0500
TZNAME:EST
DTSTART:20241103T060000
END:STANDARD
BEGIN:DAYLIGHT
TZOFFSETFROM:-0500
TZOFFSETTO:-0400
TZNAME:EDT
DTSTART:20250309T070000
END:DAYLIGHT
BEGIN:STANDARD
TZOFFSETFROM:-0400
TZOFFSETTO:-0500
TZNAME:EST
DTSTART:20251102T060000
END:STANDARD
BEGIN:DAYLIGHT
TZOFFSETFROM:-0500
TZOFFSETTO:-0400
TZNAME:EDT
DTSTART:20260308T070000
END:DAYLIGHT
BEGIN:STANDARD
TZOFFSETFROM:-0400
TZOFFSETTO:-0500
TZNAME:EST
DTSTART:20261101T060000
END:STANDARD
END:VTIMEZONE
BEGIN:VEVENT
DTSTART;TZID=America/Toronto:20250811T100000
DTEND;TZID=America/Toronto:20250811T150000
DTSTAMP:20260423T105230
CREATED:20250320T201947Z
LAST-MODIFIED:20250526T110718Z
UID:10000765-1754906400-1754924400@dcafs.on.ca
SUMMARY:FULL: Respite Services Summer Camp
DESCRIPTION:We are excited to announce Respite Services Summer Camp in partnership with Inclusive Perspectives! \nRespite Services Summer Camp is tailored to meet the unique needs of each family. We offer a range of activities and support\, including exploring materials\, relationship building\, learning objectives\, play\, skill building\, and more! With a child/youth-to-staff ratio of 2:1\, your child/youth will receive personalized attention and guidance with all the fun and excitement Inclusive Perspectives sensory environment has to offer! \nDon’t miss out on this incredible opportunity to make this summer unforgettable! Sign up for our Respite Services Summer Camp today! \n\nRegistration Details\nDates: August 11-15\, 2025\nCost $925.00 (5 days)\nTime: 10:00 am-3:00 pm\nRatio: 2:1\nAges: 4-13\nLocation: Inclusive Perspectives; 150 First St\, Unit R113 Orangeville\, ON \n\nRegistration is closed\n  \nShare on FacebookPost on XFollow us
URL:https://dcafs.on.ca/event/respite-services-summer-camp-2/
LOCATION:Inclusive Perspectives\, 150 First St\, Unit R113\, Orangeville\, Ontario\, L9W 3T7\, Canada
CATEGORIES:Behaviour Solutions
ATTACH;FMTTYPE=image/png:https://dcafs.on.ca/wp-content/uploads/2025/03/001_Respite-Summer-Campl.png
END:VEVENT
BEGIN:VEVENT
DTSTART;TZID=America/Toronto:20250805T100000
DTEND;TZID=America/Toronto:20250805T150000
DTSTAMP:20260423T105230
CREATED:20250320T201810Z
LAST-MODIFIED:20250617T154724Z
UID:10000764-1754388000-1754406000@dcafs.on.ca
SUMMARY:FULL: Respite Services Summer Camp
DESCRIPTION:We are excited to announce Respite Services Summer Camp in partnership with Inclusive Perspectives! \nRespite Services Summer Camp is tailored to meet the unique needs of each family. We offer a range of activities and support\, including exploring materials\, relationship building\, learning objectives\, play\, skill building\, and more! With a child/youth-to-staff ratio of 2:1\, your child/youth will receive personalized attention and guidance with all the fun and excitement Inclusive Perspectives sensory environment has to offer! \nDon’t miss out on this incredible opportunity to make this summer unforgettable! Sign up for our Respite Services Summer Camp today! \n\nRegistration Details\nDates: August 5-8\, 2025\nCost : $740.00 (4 days)\nTime: 10:00 am-3:00 pm\nRatio: 2:1\nAges: 4-13\nLocation: Inclusive Perspectives; 150 First St\, Unit R113 Orangeville\, ON \n\n\nRegistration is now full\nShare on FacebookPost on XFollow us
URL:https://dcafs.on.ca/event/respite-services-summer-camp/
LOCATION:Inclusive Perspectives\, 150 First St\, Unit R113\, Orangeville\, Ontario\, L9W 3T7\, Canada
CATEGORIES:Behaviour Solutions
ATTACH;FMTTYPE=image/png:https://dcafs.on.ca/wp-content/uploads/2025/03/001_Respite-Summer-Campl.png
END:VEVENT
BEGIN:VEVENT
DTSTART;TZID=America/Toronto:20250707T100000
DTEND;TZID=America/Toronto:20250707T150000
DTSTAMP:20260423T105230
CREATED:20250320T173636Z
LAST-MODIFIED:20250526T110638Z
UID:10000763-1751882400-1751900400@dcafs.on.ca
SUMMARY:FULL: Respite Services Summer Camp
DESCRIPTION:We are excited to announce Respite Services Summer Camp in partnership with Inclusive Perspectives! \nRespite Services Summer Camp is tailored to meet the unique needs of each family. We offer a range of activities and support\, including exploring materials\, relationship building\, learning objectives\, play\, skill building\, and more! With a child/youth-to-staff ratio of 2:1\, your child/youth will receive personalized attention and guidance with all the fun and excitement Inclusive Perspectives sensory environment has to offer! \nDon’t miss out on this incredible opportunity to make this summer unforgettable! Sign up for our Respite Services Summer Camp today! \n\nRegistration Details\nDates: July 7-11\, 2025\nCost: $925.00 (5 days)\nTime: 10:00 am-3:00 pm\nRatio: 2:1\nAges: 4-13\nLocation: Inclusive Perspectives; 150 First St\, Unit R113 Orangeville\, ON \n\nRegister is now closed.\n  \nShare on FacebookPost on XFollow us
URL:https://dcafs.on.ca/event/respitesummercamp/
LOCATION:Inclusive Perspectives\, 150 First St\, Unit R113\, Orangeville\, Ontario\, L9W 3T7\, Canada
CATEGORIES:Behaviour Solutions
ATTACH;FMTTYPE=image/png:https://dcafs.on.ca/wp-content/uploads/2025/03/001_Respite-Summer-Campl.png
END:VEVENT
END:VCALENDAR